BEGIN:VCALENDAR
VERSION:2.0
PRODID:-//Hangszíntér - ECPv6.8.1//NONSGML v1.0//EN
CALSCALE:GREGORIAN
METHOD:PUBLISH
X-WR-CALNAME:Hangszíntér
X-ORIGINAL-URL:https://hangszinter.hu
X-WR-CALDESC:Events for Hangszíntér
REFRESH-INTERVAL;VALUE=DURATION:PT1H
X-Robots-Tag:noindex
X-PUBLISHED-TTL:PT1H
BEGIN:VTIMEZONE
TZID:Europe/Budapest
BEGIN:DAYLIGHT
TZOFFSETFROM:+0100
TZOFFSETTO:+0200
TZNAME:CEST
DTSTART:20250330T010000
END:DAYLIGHT
BEGIN:STANDARD
TZOFFSETFROM:+0200
TZOFFSETTO:+0100
TZNAME:CET
DTSTART:20251026T010000
END:STANDARD
END:VTIMEZONE
BEGIN:VEVENT
DTSTART;TZID=Europe/Budapest:20250505T080000
DTEND;TZID=Europe/Budapest:20250509T170000
DTSTAMP:20260425T175933
CREATED:20250110T135215Z
LAST-MODIFIED:20250110T135215Z
UID:5511-1746432000-1746810000@hangszinter.hu
SUMMARY:Digitális oktatás (9-11. évfolyamnak)
DESCRIPTION:
URL:https://hangszinter.hu/esemeny/digitalis-oktatas-9-11-evfolyamnak/
END:VEVENT
BEGIN:VEVENT
DTSTART;TZID=Europe/Budapest:20250505T090000
DTEND;TZID=Europe/Budapest:20250505T120000
DTSTAMP:20260425T175933
CREATED:20250110T135628Z
LAST-MODIFIED:20250110T135628Z
UID:5521-1746435600-1746446400@hangszinter.hu
SUMMARY:Érettségi: Magyar nyelv és irodalom
DESCRIPTION:
URL:https://hangszinter.hu/esemeny/erettsegi-magyar-nyelv-es-irodalom/
END:VEVENT
BEGIN:VEVENT
DTSTART;TZID=Europe/Budapest:20250506T090000
DTEND;TZID=Europe/Budapest:20250506T120000
DTSTAMP:20260425T175933
CREATED:20250110T135718Z
LAST-MODIFIED:20250110T135718Z
UID:5523-1746522000-1746532800@hangszinter.hu
SUMMARY:Érettségi: Matematika
DESCRIPTION:
URL:https://hangszinter.hu/esemeny/erettsegi-matematika/
END:VEVENT
BEGIN:VEVENT
DTSTART;TZID=Europe/Budapest:20250507T090000
DTEND;TZID=Europe/Budapest:20250507T120000
DTSTAMP:20260425T175933
CREATED:20250110T135757Z
LAST-MODIFIED:20250110T135757Z
UID:5525-1746608400-1746619200@hangszinter.hu
SUMMARY:Érettségi: Történelem
DESCRIPTION:
URL:https://hangszinter.hu/esemeny/erettsegi-tortenelem/
END:VEVENT
BEGIN:VEVENT
DTSTART;TZID=Europe/Budapest:20250508T090000
DTEND;TZID=Europe/Budapest:20250508T170000
DTSTAMP:20260425T175933
CREATED:20250110T141042Z
LAST-MODIFIED:20250110T141042Z
UID:5527-1746694800-1746723600@hangszinter.hu
SUMMARY:Érettségi: Angol
DESCRIPTION:
URL:https://hangszinter.hu/esemeny/erettsegi-angol/
END:VEVENT
BEGIN:VEVENT
DTSTART;TZID=Europe/Budapest:20250509T090000
DTEND;TZID=Europe/Budapest:20250509T170000
DTSTAMP:20260425T175933
CREATED:20250110T141115Z
LAST-MODIFIED:20250110T141115Z
UID:5530-1746781200-1746810000@hangszinter.hu
SUMMARY:Érettségi: Német
DESCRIPTION:
URL:https://hangszinter.hu/esemeny/erettsegi-nemet/
END:VEVENT
BEGIN:VEVENT
DTSTART;TZID=Europe/Budapest:20250512T080000
DTEND;TZID=Europe/Budapest:20250512T170000
DTSTAMP:20260425T175933
CREATED:20250110T141227Z
LAST-MODIFIED:20250110T141227Z
UID:5532-1747036800-1747069200@hangszinter.hu
SUMMARY:Érettségi: Digitális kultúra
DESCRIPTION:
URL:https://hangszinter.hu/esemeny/erettsegi-digitalis-kultura/
END:VEVENT
BEGIN:VEVENT
DTSTART;TZID=Europe/Budapest:20250514T140000
DTEND;TZID=Europe/Budapest:20250514T170000
DTSTAMP:20260425T175933
CREATED:20250110T141336Z
LAST-MODIFIED:20250110T141336Z
UID:5534-1747231200-1747242000@hangszinter.hu
SUMMARY:Érettségi: Vizuális kultúra
DESCRIPTION:
URL:https://hangszinter.hu/esemeny/erettsegi-vizualis-kultura/
END:VEVENT
BEGIN:VEVENT
DTSTART;TZID=Europe/Budapest:20250515T180000
DTEND;TZID=Europe/Budapest:20250515T190000
DTSTAMP:20260425T175933
CREATED:20250418T162737Z
LAST-MODIFIED:20250418T162855Z
UID:5788-1747332000-1747335600@hangszinter.hu
SUMMARY:HSZT est - 9. évfolyam
DESCRIPTION:
URL:https://hangszinter.hu/esemeny/hszt-est-9-evfolyam-2/
END:VEVENT
BEGIN:VEVENT
DTSTART;TZID=Europe/Budapest:20250516T140000
DTEND;TZID=Europe/Budapest:20250516T170000
DTSTAMP:20260425T175933
CREATED:20250110T141700Z
LAST-MODIFIED:20250110T141700Z
UID:5536-1747404000-1747414800@hangszinter.hu
SUMMARY:Érettségi: Természettudomány
DESCRIPTION:
URL:https://hangszinter.hu/esemeny/erettsegi-termeszettudomany/
END:VEVENT
BEGIN:VEVENT
DTSTART;TZID=Europe/Budapest:20250520T140000
DTEND;TZID=Europe/Budapest:20250520T170000
DTSTAMP:20260425T175933
CREATED:20250110T141742Z
LAST-MODIFIED:20250110T141742Z
UID:5539-1747749600-1747760400@hangszinter.hu
SUMMARY:Érettségi: Mozgóképkultúra és médiaismeret
DESCRIPTION:
URL:https://hangszinter.hu/esemeny/erettsegi-mozgokepkultura-es-mediaismeret/
END:VEVENT
BEGIN:VEVENT
DTSTART;TZID=Europe/Budapest:20250529T083000
DTEND;TZID=Europe/Budapest:20250529T170000
DTSTAMP:20260425T175933
CREATED:20250528T210150Z
LAST-MODIFIED:20250528T210249Z
UID:5872-1748507400-1748538000@hangszinter.hu
SUMMARY:Menza befizetés
DESCRIPTION:A júniusi menza befizetésére május 29-én\, (csütörtökön) van lehetőség 8.30 és 15 óra között az iskola \,\,C” épületében.
URL:https://hangszinter.hu/esemeny/menza-befizetes/
END:VEVENT
END:VCALENDAR