BEGIN:VCALENDAR
VERSION:2.0
PRODID:-//Hangszíntér - ECPv6.8.1//NONSGML v1.0//EN
CALSCALE:GREGORIAN
METHOD:PUBLISH
X-ORIGINAL-URL:https://hangszinter.hu
X-WR-CALDESC:Events for Hangszíntér
REFRESH-INTERVAL;VALUE=DURATION:PT1H
X-Robots-Tag:noindex
X-PUBLISHED-TTL:PT1H
BEGIN:VTIMEZONE
TZID:Europe/Budapest
BEGIN:DAYLIGHT
TZOFFSETFROM:+0100
TZOFFSETTO:+0200
TZNAME:CEST
DTSTART:20240331T010000
END:DAYLIGHT
BEGIN:STANDARD
TZOFFSETFROM:+0200
TZOFFSETTO:+0100
TZNAME:CET
DTSTART:20241027T010000
END:STANDARD
BEGIN:DAYLIGHT
TZOFFSETFROM:+0100
TZOFFSETTO:+0200
TZNAME:CEST
DTSTART:20250330T010000
END:DAYLIGHT
BEGIN:STANDARD
TZOFFSETFROM:+0200
TZOFFSETTO:+0100
TZNAME:CET
DTSTART:20251026T010000
END:STANDARD
END:VTIMEZONE
BEGIN:VEVENT
DTSTART;VALUE=DATE:20241221
DTEND;VALUE=DATE:20250106
DTSTAMP:20260426T005505
CREATED:20241124T185846Z
LAST-MODIFIED:20241124T190006Z
UID:5380-1734739200-1736121599@hangszinter.hu
SUMMARY:Téli szünet
DESCRIPTION:
URL:https://hangszinter.hu/esemeny/teli-szunet/
END:VEVENT
BEGIN:VEVENT
DTSTART;TZID=Europe/Budapest:20250106T083000
DTEND;TZID=Europe/Budapest:20250106T235900
DTSTAMP:20260426T005505
CREATED:20241218T161307Z
LAST-MODIFIED:20241218T161444Z
UID:5455-1736152200-1736207940@hangszinter.hu
SUMMARY:Első tanítási nap a téli szünet után
DESCRIPTION:
URL:https://hangszinter.hu/esemeny/5455/
END:VEVENT
BEGIN:VEVENT
DTSTART;TZID=Europe/Budapest:20250115T170000
DTEND;TZID=Europe/Budapest:20250115T180000
DTSTAMP:20260426T005505
CREATED:20250110T133911Z
LAST-MODIFIED:20250110T133911Z
UID:5505-1736960400-1736964000@hangszinter.hu
SUMMARY:Felvételi tájékoztató
DESCRIPTION:
URL:https://hangszinter.hu/esemeny/felveteli-tajekoztato/
END:VEVENT
BEGIN:VEVENT
DTSTART;TZID=Europe/Budapest:20250116T180000
DTEND;TZID=Europe/Budapest:20250116T190000
DTSTAMP:20260426T005505
CREATED:20250110T224345Z
LAST-MODIFIED:20250110T224345Z
UID:5544-1737050400-1737054000@hangszinter.hu
SUMMARY:HSZT est - 9. évfolyam
DESCRIPTION:
URL:https://hangszinter.hu/esemeny/hszt-est-9-evfolyam/
END:VEVENT
BEGIN:VEVENT
DTSTART;VALUE=DATE:20250117
DTEND;VALUE=DATE:20250118
DTSTAMP:20260426T005505
CREATED:20250110T133650Z
LAST-MODIFIED:20250110T133650Z
UID:5503-1737072000-1737158399@hangszinter.hu
SUMMARY:I. félév vége
DESCRIPTION:
URL:https://hangszinter.hu/esemeny/i-felev-vege/
END:VEVENT
BEGIN:VEVENT
DTSTART;TZID=Europe/Budapest:20250124T080000
DTEND;TZID=Europe/Budapest:20250124T170000
DTSTAMP:20260426T005505
CREATED:20250110T134424Z
LAST-MODIFIED:20250110T134424Z
UID:5507-1737705600-1737738000@hangszinter.hu
SUMMARY:Első félévi értesítők kiosztása
DESCRIPTION:
URL:https://hangszinter.hu/esemeny/elso-felevi-ertesitok-kiosztasa/
END:VEVENT
BEGIN:VEVENT
DTSTART;TZID=Europe/Budapest:20250127T140000
DTEND;TZID=Europe/Budapest:20250128T150000
DTSTAMP:20260426T005505
CREATED:20250115T112540Z
LAST-MODIFIED:20250123T124616Z
UID:5555-1737986400-1738076400@hangszinter.hu
SUMMARY:A februári étkezés befizetése
DESCRIPTION:2025. január 27-én és 28-án 14-15 között van lehetőség.
URL:https://hangszinter.hu/esemeny/5555/
END:VEVENT
BEGIN:VEVENT
DTSTART;TZID=Europe/Budapest:20250131T080000
DTEND;TZID=Europe/Budapest:20250131T170000
DTSTAMP:20260426T005505
CREATED:20250124T084140Z
LAST-MODIFIED:20250124T084140Z
UID:5576-1738310400-1738342800@hangszinter.hu
SUMMARY:Szakgimnáziumi jelentkezési lap leadási határideje
DESCRIPTION:
URL:https://hangszinter.hu/esemeny/szakgimnaziumi-jelentkezesi-lap-leadasi-hatarideje/
END:VEVENT
END:VCALENDAR