BEGIN:VCALENDAR
VERSION:2.0
PRODID:-//Hangszíntér - ECPv6.8.1//NONSGML v1.0//EN
CALSCALE:GREGORIAN
METHOD:PUBLISH
X-ORIGINAL-URL:https://hangszinter.hu
X-WR-CALDESC:Events for Hangszíntér
REFRESH-INTERVAL;VALUE=DURATION:PT1H
X-Robots-Tag:noindex
X-PUBLISHED-TTL:PT1H
BEGIN:VTIMEZONE
TZID:Europe/Budapest
BEGIN:DAYLIGHT
TZOFFSETFROM:+0100
TZOFFSETTO:+0200
TZNAME:CEST
DTSTART:20250330T010000
END:DAYLIGHT
BEGIN:STANDARD
TZOFFSETFROM:+0200
TZOFFSETTO:+0100
TZNAME:CET
DTSTART:20251026T010000
END:STANDARD
END:VTIMEZONE
BEGIN:VEVENT
DTSTART;TZID=Europe/Budapest:20250529T083000
DTEND;TZID=Europe/Budapest:20250529T170000
DTSTAMP:20260425T175943
CREATED:20250528T210150Z
LAST-MODIFIED:20250528T210249Z
UID:5872-1748507400-1748538000@hangszinter.hu
SUMMARY:Menza befizetés
DESCRIPTION:A júniusi menza befizetésére május 29-én\, (csütörtökön) van lehetőség 8.30 és 15 óra között az iskola \,\,C” épületében.
URL:https://hangszinter.hu/esemeny/menza-befizetes/
END:VEVENT
END:VCALENDAR